BEGIN:VCALENDAR
VERSION:2.0
PRODID:-//ChamberMaster//Event Calendar 2.0//EN
METHOD:PUBLISH
X-PUBLISHED-TTL:P3D
REFRESH-INTERVAL:P3D
CALSCALE:GREGORIAN
BEGIN:VEVENT
DTSTART:20260502T150000Z
DTEND:20260508T220000Z
X-MICROSOFT-CDO-ALLDAYEVENT:FALSE
SUMMARY:First Responders Week at Volo Museum!
DESCRIPTION:This May\, Volo Museum and Jurassic Gardens are proud to salute the everyday heroes who run toward danger so the rest of us can stay safe.\n\n\n\nIn honor of First Responders Week\,  May 2nd through 8th\, we're throwing open our doors and offering complimentary Gold Pass Admission to all active and retired first responders   because some people deserve more than just a thank you.\n\n\n\nYour Gold Pass includes: Admission to both the Volo Museum and Jurassic Gardens   a full day of fun and adventure for those who give so much to keep us safe.\n\n\n\nTo redeem\, simply present your ID upon arrival.\n\n\n\nNo registration. No hassle. Just show your valid ID at the ticket counter when you arrive and enjoy.\n\n\n\nWhether you're into classic cars\, dinosaurs\, or just looking for a great day out   we've got something for you.\n\n\n\nThank You to our firefighters\, police officers\, EMTs\, paramedics\, and every first responder who puts on a uniform and shows up   this one's for you! Come celebrate\, relax\, and let us honor you the Volo way.\n\n\n\nVisit https://volofun.com/event/first-responders-week-at-volo-museum/ for details!
X-ALT-DESC;FMTTYPE=text/html:<span style="background-color:rgb(255\, 255\, 255)\; font-family:circular-addevent\,arial\,helvetica neue\,helvetica\,sans-serif\; font-size:16px">This May\, Volo Museum and Jurassic Gardens are proud to salute the everyday heroes who run toward danger so the rest of us can stay safe.</span><br />\n<br />\n<span style="background-color:rgb(255\, 255\, 255)\; font-family:circular-addevent\,arial\,helvetica neue\,helvetica\,sans-serif\; font-size:16px">In honor of First Responders Week\, &nbsp\;May 2nd through 8th\, we&#39\;re throwing open our doors and offering complimentary Gold Pass Admission to all active and retired first responders &mdash\; because some people deserve more than just a thank you.</span><br />\n<br />\n<span style="background-color:rgb(255\, 255\, 255)\; font-family:circular-addevent\,arial\,helvetica neue\,helvetica\,sans-serif\; font-size:16px">Your Gold Pass includes: Admission to both the Volo Museum and Jurassic Gardens &mdash\; a full day of fun and adventure for those who give so much to keep us safe.</span><br />\n<br />\n<span style="background-color:rgb(255\, 255\, 255)\; font-family:circular-addevent\,arial\,helvetica neue\,helvetica\,sans-serif\; font-size:16px">To redeem\, simply present your ID upon arrival.</span><br />\n<br />\n<span style="background-color:rgb(255\, 255\, 255)\; font-family:circular-addevent\,arial\,helvetica neue\,helvetica\,sans-serif\; font-size:16px">No registration. No hassle. Just show your valid ID at the ticket counter when you arrive and enjoy.</span><br />\n<br />\n<span style="background-color:rgb(255\, 255\, 255)\; font-family:circular-addevent\,arial\,helvetica neue\,helvetica\,sans-serif\; font-size:16px">Whether you&#39\;re into classic cars\, dinosaurs\, or just looking for a great day out &mdash\; we&rsquo\;ve got something for you.</span><br />\n<br />\n<span style="background-color:rgb(255\, 255\, 255)\; font-family:circular-addevent\,arial\,helvetica neue\,helvetica\,sans-serif\; font-size:16px">Thank You to our firefighters\, police officers\, EMTs\, paramedics\, and every first responder who puts on a uniform and shows up &mdash\; this one&#39\;s for you! Come celebrate\, relax\, and let us honor you the Volo way.</span><br />\n<br />\n<span style="background-color:rgb(255\, 255\, 255)\; font-family:circular-addevent\,arial\,helvetica neue\,helvetica\,sans-serif\; font-size:16px">Visit&nbsp\;</span><a href="https://volofun.com/event/first-responders-week-at-volo-museum/" style="color: rgb(55\, 119\, 224)\; background-color: rgb(255\, 255\, 255)\; font-family: Circular-AddEvent\, Arial\, &quot\;Helvetica Neue&quot\;\, Helvetica\, sans-serif\; font-size: 16px\; line-height: 22.4px\;" target="_blank">https://volofun.com/event/first-responders-week-at-volo-museum/</a><span style="background-color:rgb(255\, 255\, 255)\; font-family:circular-addevent\,arial\,helvetica neue\,helvetica\,sans-serif\; font-size:16px">&nbsp\;for details!</span>
LOCATION:27582 Volo Village Rd. Volo\, IL 60073
UID:e.1964.5559
SEQUENCE:3
DTSTAMP:20260420T185732Z
URL:https://business.lakecountychamber.com/events/details/first-responders-week-at-volo-museum-5559
END:VEVENT

END:VCALENDAR
