BEGIN:VCALENDAR
VERSION:2.0
PRODID:-//ChamberMaster//Event Calendar 2.0//EN
METHOD:PUBLISH
X-PUBLISHED-TTL:P3D
REFRESH-INTERVAL:P3D
CALSCALE:GREGORIAN
BEGIN:VEVENT
DTSTART:20250207T163000Z
DTEND:20250207T213000Z
X-MICROSOFT-CDO-ALLDAYEVENT:FALSE
SUMMARY:God's Essence Aromatherapy's Wellness & Self-Care Pop Up Event
DESCRIPTION:Discover your perfect self-care gift!\n\nHandcrafted body butters\, body scrubs\, luxury aromatherapy candles. tea samples\, and more!\n\nExclusive Event Offers:\n\n\n	One Stop Valentine's Day Shop\n	Free Product Sampling \n	Subscription Box Preview
X-ALT-DESC;FMTTYPE=text/html:<p><span style="font-size:14px\;"><strong><span style="font-family:times new roman\;">Discover your perfect self-care gift!</span></strong></span></p>\n\n<p><span style="font-size:14px\;"><span style="font-family:times new roman\;"><span style="font-family:arial\;">Handcrafted body butters\, body scrubs\, luxury aromatherapy candles. tea samples\, and more!</span></span></span><br />\n<span style="font-family:comic sans ms\;">Exclusive Event Offers:</span></p>\n\n<ul>\n	<li>One Stop Valentine&#39\;s Day Shop</li>\n	<li>Free Product Sampling&nbsp\;</li>\n	<li>Subscription Box Preview</li>\n</ul>\n
LOCATION:Huntington Bank Lobby 6121 Washington St Gurnee\, IL 60031
UID:e.1964.5228
SEQUENCE:3
DTSTAMP:20260423T054556Z
URL:https://business.lakecountychamber.com/events/details/god-s-essence-aromatherapy-s-wellness-self-care-pop-up-event-5228
END:VEVENT

END:VCALENDAR
